BEGIN:VCALENDAR
VERSION:2.0
PRODID:-//Needham Soccer Club - ECPv6.15.14//NONSGML v1.0//EN
CALSCALE:GREGORIAN
METHOD:PUBLISH
X-WR-CALNAME:Needham Soccer Club
X-ORIGINAL-URL:https://needhamsoccer.com
X-WR-CALDESC:Events for Needham Soccer Club
REFRESH-INTERVAL;VALUE=DURATION:PT1H
X-Robots-Tag:noindex
X-PUBLISHED-TTL:PT1H
BEGIN:VTIMEZONE
TZID:America/New_York
BEGIN:DAYLIGHT
TZOFFSETFROM:-0500
TZOFFSETTO:-0400
TZNAME:EDT
DTSTART:20250309T070000
END:DAYLIGHT
BEGIN:STANDARD
TZOFFSETFROM:-0400
TZOFFSETTO:-0500
TZNAME:EST
DTSTART:20251102T060000
END:STANDARD
BEGIN:DAYLIGHT
TZOFFSETFROM:-0500
TZOFFSETTO:-0400
TZNAME:EDT
DTSTART:20260308T070000
END:DAYLIGHT
BEGIN:STANDARD
TZOFFSETFROM:-0400
TZOFFSETTO:-0500
TZNAME:EST
DTSTART:20261101T060000
END:STANDARD
BEGIN:DAYLIGHT
TZOFFSETFROM:-0500
TZOFFSETTO:-0400
TZNAME:EDT
DTSTART:20270314T070000
END:DAYLIGHT
BEGIN:STANDARD
TZOFFSETFROM:-0400
TZOFFSETTO:-0500
TZNAME:EST
DTSTART:20271107T060000
END:STANDARD
END:VTIMEZONE
BEGIN:VEVENT
DTSTART;TZID=America/New_York:20260402T180000
DTEND;TZID=America/New_York:20260402T200000
DTSTAMP:20260425T085325
CREATED:20260226T214207Z
LAST-MODIFIED:20260318T182035Z
UID:19633-1775152800-1775160000@needhamsoccer.com
SUMMARY:NSCCL Referee Course 1
DESCRIPTION:Referee training course for interested new and returning referees for our ‘in-town’ NSCCL program. \nReferees must be aged 12 or older on June 30th of the current year. \nRegistration required to attend. \nSpring 2026 courses will be held in person at Memorial Park Fieldhouse in Needham\, 6-8pm. \nPlease Register! \nCLICK HERE TO LEARN MORE ABOUT BECOMING A REFEREE
URL:https://needhamsoccer.com/event/nsccl-referee-course-1-new-refs/
LOCATION:Memorial Park Field House\, 92 Rosemary Street\, Needham\, MA\, 02494\, United States
CATEGORIES:Upcoming Events
ATTACH;FMTTYPE=image/png:https://needhamsoccer.com/wp-content/uploads/2020/04/IMG_8540c.png
END:VEVENT
END:VCALENDAR